BEGIN:VCALENDAR
VERSION:2.0
PRODID:-//Magnolia UCC - ECPv6.15.15//NONSGML v1.0//EN
CALSCALE:GREGORIAN
METHOD:PUBLISH
X-WR-CALNAME:Magnolia UCC
X-ORIGINAL-URL:https://magnoliaucc.org
X-WR-CALDESC:Events for Magnolia UCC
REFRESH-INTERVAL;VALUE=DURATION:PT1H
X-Robots-Tag:noindex
X-PUBLISHED-TTL:PT1H
BEGIN:VTIMEZONE
TZID:America/Vancouver
BEGIN:DAYLIGHT
TZOFFSETFROM:-0800
TZOFFSETTO:-0700
TZNAME:PDT
DTSTART:20250309T100000
END:DAYLIGHT
BEGIN:STANDARD
TZOFFSETFROM:-0700
TZOFFSETTO:-0800
TZNAME:PST
DTSTART:20251102T090000
END:STANDARD
BEGIN:DAYLIGHT
TZOFFSETFROM:-0800
TZOFFSETTO:-0700
TZNAME:PDT
DTSTART:20260308T100000
END:DAYLIGHT
BEGIN:STANDARD
TZOFFSETFROM:-0700
TZOFFSETTO:-0800
TZNAME:PST
DTSTART:20261101T090000
END:STANDARD
BEGIN:DAYLIGHT
TZOFFSETFROM:-0800
TZOFFSETTO:-0700
TZNAME:PDT
DTSTART:20270314T100000
END:DAYLIGHT
BEGIN:STANDARD
TZOFFSETFROM:-0700
TZOFFSETTO:-0800
TZNAME:PST
DTSTART:20271107T090000
END:STANDARD
END:VTIMEZONE
BEGIN:VTIMEZONE
TZID:UTC
BEGIN:STANDARD
TZOFFSETFROM:+0000
TZOFFSETTO:+0000
TZNAME:UTC
DTSTART:20250101T000000
END:STANDARD
END:VTIMEZONE
BEGIN:VEVENT
DTSTART;TZID=America/Vancouver:20260428T130000
DTEND;TZID=America/Vancouver:20260428T140000
DTSTAMP:20260423T064958
CREATED:20260401T164316Z
LAST-MODIFIED:20260401T164316Z
UID:4884-1777381200-1777384800@magnoliaucc.org
SUMMARY:Special Class: Introduction To World Religions
DESCRIPTION:MUCC is honored to welcome retired professor Dr. Sharon Miller to teach an intro course on World Religions. This intro course will be followed by many more deeper dives into the world’s religions over the course of the next year. \nThe first class on April 21st will focus on what religion is\, the role religion plays in society\, and ask the question – does religion need a god? The second class on April 28th will look at the differences between cults\, sects\, denominations\, and how culture shapes faith. \nHere is a bit about Sharon and her approach to the courses: \n“I am pleased to be joining you as an instructor for a series of classes on world religions and the role religion plays in people’s lives. To kick off the series\, this spring I will be offering two introductory classes and in the fall we will dive into studying Islam\, followed by Hinduism\, Jains\, Sikhs\, Buddhism\, etc. \nI come to this subject with both an academic and a deep personal love and experience\, having grown up in the Indian subcontinent\, surrounded by a multitude of faiths. I have a Ph.D. in sociology of religion from the University of Notre Dame as well as a M.Div. Seven years ago\, I retired from academia to move to the NW to be closer to family. Teaching will always be my first love!” \nZoom link here \n\n\n\n\nMeeting ID: 849 7126 5985\nPasscode: 287760
URL:https://magnoliaucc.org/event/special-class-introduction-to-world-religions-2/
CATEGORIES:All Church,Classes
ATTACH;FMTTYPE=image/jpeg:https://magnoliaucc.org/wp-content/uploads/2026/04/religions.jpg
END:VEVENT
BEGIN:VEVENT
DTSTART;TZID=America/Vancouver:20260429T110000
DTEND;TZID=America/Vancouver:20260429T233000
DTSTAMP:20260423T064958
CREATED:20260325T165406Z
LAST-MODIFIED:20260325T165406Z
UID:4858-1777460400-1777505400@magnoliaucc.org
SUMMARY:Sacred Silence
DESCRIPTION:Each week we gather in the Parlor at 11:00am on Wednesday for a time of sacred silence\, time to still our minds and join together in creating sacred space in silence. Join us for this powerful time of community and prayerful being.
URL:https://magnoliaucc.org/event/sacred-silence-41/
CATEGORIES:All Church,Community
ATTACH;FMTTYPE=image/jpeg:https://magnoliaucc.org/wp-content/uploads/2024/11/sacredsilence-e1731522210841.jpg
END:VEVENT
BEGIN:VEVENT
DTSTART;TZID=America/Vancouver:20260501T123000
DTEND;TZID=America/Vancouver:20260501T133000
DTSTAMP:20260423T064958
CREATED:20260203T213845Z
LAST-MODIFIED:20260203T213845Z
UID:4758-1777638600-1777642200@magnoliaucc.org
SUMMARY:Knights of the Square Table (MUCC Men’s Group)
DESCRIPTION:The men of MUCC (known as the Knights of the Square Table) meet monthly on the first Friday at 12:30 with a rotating location at various local restaurants.   The location switches regularly.  It’s a purely social gathering!  Tom Ranken sends out the email notification with the location and if you are not on that email distribution\, let Tom know! Find his contact info in your Directory or its online version on our Community Resources page!
URL:https://magnoliaucc.org/event/knights-of-the-square-table-mucc-mens-group-12/
ATTACH;FMTTYPE=image/jpeg:https://magnoliaucc.org/wp-content/uploads/2024/12/knightsofthesquaretable-e1734387239961.jpg
END:VEVENT
BEGIN:VEVENT
DTSTART;TZID=UTC:20260512T190000
DTEND;TZID=UTC:20260512T200000
DTSTAMP:20260423T064958
CREATED:20251021T232104Z
LAST-MODIFIED:20260413T205439Z
UID:4462-1778612400-1778616000@magnoliaucc.org
SUMMARY:In Person Pub Theology
DESCRIPTION:Join us at Bizarre Brewing for good beer (and nonalcoholic drinks) and conversation!\n4441 26th Ave W Suite A\, Seattle\, WA 98199 \nCheck back for this month’s question.
URL:https://magnoliaucc.org/event/in-person-pub-theology-10/
LOCATION:Bizarre Brewing\, 4441 26th Ave W Suite A\, Seattle\, WA\, 98199\, United States
CATEGORIES:Adult Ministries
ATTACH;FMTTYPE=image/png:https://magnoliaucc.org/wp-content/uploads/2024/05/pubtheology-e1715121513961.png
END:VEVENT
BEGIN:VEVENT
DTSTART;TZID=America/Vancouver:20260605T123000
DTEND;TZID=America/Vancouver:20260605T133000
DTSTAMP:20260423T064958
CREATED:20260203T213913Z
LAST-MODIFIED:20260203T213913Z
UID:4760-1780662600-1780666200@magnoliaucc.org
SUMMARY:Knights of the Square Table (MUCC Men’s Group)
DESCRIPTION:The men of MUCC (known as the Knights of the Square Table) meet monthly on the first Friday at 12:30 with a rotating location at various local restaurants.   The location switches regularly.  It’s a purely social gathering!  Tom Ranken sends out the email notification with the location and if you are not on that email distribution\, let Tom know! Find his contact info in your Directory or its online version on our Community Resources page!
URL:https://magnoliaucc.org/event/knights-of-the-square-table-mucc-mens-group-13/
ATTACH;FMTTYPE=image/jpeg:https://magnoliaucc.org/wp-content/uploads/2024/12/knightsofthesquaretable-e1734387239961.jpg
END:VEVENT
BEGIN:VEVENT
DTSTART;TZID=UTC:20260623T190000
DTEND;TZID=UTC:20260623T200000
DTSTAMP:20260423T064958
CREATED:20251021T232126Z
LAST-MODIFIED:20260105T175953Z
UID:4464-1782241200-1782244800@magnoliaucc.org
SUMMARY:In-Person Pub Theology
DESCRIPTION:Join us at Bizarre Brewing for good beer (and nonalcoholic drinks) and conversation!
URL:https://magnoliaucc.org/event/in-person-pub-theology-11/
LOCATION:Bizarre Brewing\, 4441 26th Ave W Suite A\, Seattle\, WA\, 98199\, United States
CATEGORIES:Adult Ministries
ATTACH;FMTTYPE=image/png:https://magnoliaucc.org/wp-content/uploads/2024/05/pubtheology-e1715121513961.png
END:VEVENT
BEGIN:VEVENT
DTSTART;TZID=UTC:20260721T190000
DTEND;TZID=UTC:20260721T200000
DTSTAMP:20260423T064958
CREATED:20251021T232144Z
LAST-MODIFIED:20260105T180117Z
UID:4466-1784660400-1784664000@magnoliaucc.org
SUMMARY:In-Person Pub Theology
DESCRIPTION:Join us at Bizarre Brewing for good beer (and nonalcoholic drinks) and conversation!
URL:https://magnoliaucc.org/event/in-person-pub-theology-12/
LOCATION:Bizarre Brewing\, 4441 26th Ave W Suite A\, Seattle\, WA\, 98199\, United States
CATEGORIES:Adult Ministries
ATTACH;FMTTYPE=image/png:https://magnoliaucc.org/wp-content/uploads/2024/05/pubtheology-e1715121513961.png
END:VEVENT
BEGIN:VEVENT
DTSTART;TZID=UTC:20260819T190000
DTEND;TZID=UTC:20260819T200000
DTSTAMP:20260423T064958
CREATED:20251021T232226Z
LAST-MODIFIED:20260330T231257Z
UID:4468-1787166000-1787169600@magnoliaucc.org
SUMMARY:In-Person Pub Theology
DESCRIPTION:Join us at Bizarre Brewing for good beer (and nonalcoholic drinks) and conversation!
URL:https://magnoliaucc.org/event/in-person-pub-theology-13/
LOCATION:Bizarre Brewing\, 4441 26th Ave W Suite A\, Seattle\, WA\, 98199\, United States
CATEGORIES:Adult Ministries
ATTACH;FMTTYPE=image/png:https://magnoliaucc.org/wp-content/uploads/2024/05/pubtheology-e1715121513961.png
END:VEVENT
BEGIN:VEVENT
DTSTART;TZID=UTC:20260916T190000
DTEND;TZID=UTC:20260916T200000
DTSTAMP:20260423T064958
CREATED:20251021T232300Z
LAST-MODIFIED:20260330T231331Z
UID:4470-1789585200-1789588800@magnoliaucc.org
SUMMARY:In-Person Pub Theology
DESCRIPTION:Join us at Bizarre Brewing for good beer (and nonalcoholic drinks) and conversation!
URL:https://magnoliaucc.org/event/in-person-pub-theology-14/
LOCATION:Bizarre Brewing\, 4441 26th Ave W Suite A\, Seattle\, WA\, 98199\, United States
CATEGORIES:Adult Ministries
ATTACH;FMTTYPE=image/png:https://magnoliaucc.org/wp-content/uploads/2024/05/pubtheology-e1715121513961.png
END:VEVENT
BEGIN:VEVENT
DTSTART;TZID=UTC:20261027T190000
DTEND;TZID=UTC:20261027T200000
DTSTAMP:20260423T064958
CREATED:20251021T232412Z
LAST-MODIFIED:20260105T180228Z
UID:4474-1793127600-1793131200@magnoliaucc.org
SUMMARY:Zoom Pub Theology
DESCRIPTION:Check back for this month’s question!\nGrab a drink and join in the conversation! Join on Zoom. (Meeting ID: 886 8245 6539\, Passcode: 114498)
URL:https://magnoliaucc.org/event/zoom-pub-theology-11/
CATEGORIES:Adult Ministries
ATTACH;FMTTYPE=image/png:https://magnoliaucc.org/wp-content/uploads/2024/05/pubtheology-e1715121513961.png
END:VEVENT
BEGIN:VEVENT
DTSTART;TZID=UTC:20261117T190000
DTEND;TZID=UTC:20261117T200000
DTSTAMP:20260423T064958
CREATED:20251021T232433Z
LAST-MODIFIED:20260105T180247Z
UID:4476-1794942000-1794945600@magnoliaucc.org
SUMMARY:Zoom Pub Theology
DESCRIPTION:Check back for this month’s question!\nGrab a drink and join in the conversation! Join on Zoom. (Meeting ID: 886 8245 6539\, Passcode: 114498)
URL:https://magnoliaucc.org/event/zoom-pub-theology-12/
CATEGORIES:Adult Ministries
ATTACH;FMTTYPE=image/png:https://magnoliaucc.org/wp-content/uploads/2024/05/pubtheology-e1715121513961.png
END:VEVENT
BEGIN:VEVENT
DTSTART;TZID=UTC:20261208T190000
DTEND;TZID=UTC:20261208T200000
DTSTAMP:20260423T064958
CREATED:20251021T232458Z
LAST-MODIFIED:20260105T180316Z
UID:4478-1796756400-1796760000@magnoliaucc.org
SUMMARY:Zoom Pub Theology
DESCRIPTION:Check back for this month’s question!\nGrab a drink and join in the conversation! Join on Zoom. (Meeting ID: 886 8245 6539\, Passcode: 114498)
URL:https://magnoliaucc.org/event/zoom-pub-theology-13/
CATEGORIES:Adult Ministries
ATTACH;FMTTYPE=image/png:https://magnoliaucc.org/wp-content/uploads/2024/05/pubtheology-e1715121513961.png
END:VEVENT
END:VCALENDAR